BEGIN:VCALENDAR
VERSION:2.0
PRODID:Facultat d'Economia i Empresa
BEGIN:VEVENT
UID:69ebbf738cfdc
DTSTART:20260429T150000Z
SEQUENCE:0
TRANSP:OPAQUE
DTEND:20260428T220000Z
URL:http://www.fee.urv.cat/es/agenda/12122/sessio-informativa-virtual-sobre
 -el-master-en-mercats-internacionals
SUMMARY:Sesión informativa virtual sobre el Máster en Mercados Internacio
 nales
CLASS:PUBLIC
DESCRIPTION:El próximo miércoles 29&nbsp\;de abril a las 17&nbsp\;h\, se 
 celebrará la sesión informativa virtual sobre el Máster en Mercados Int
 ernacionales. La sesión se impartirá en inglés.
DTSTAMP:20260424T190731Z
END:VEVENT
END:VCALENDAR