BEGIN:VCALENDAR
VERSION:2.0
PRODID:Facultat d'Economia i Empresa
BEGIN:VEVENT
UID:69ebbf730fd92
DTSTART:20260428T140000Z
SEQUENCE:0
TRANSP:OPAQUE
DTEND:20260427T220000Z
URL:http://www.fee.urv.cat/es/agenda/12120/sessio-informativa-virtual-sobre
 -el-master-en-direccio-d-empreses
SUMMARY:Sesión informativa virtual sobre el Máster en Dirección de Empre
 sas
CLASS:PUBLIC
DESCRIPTION:El próximo martes 28 de abril a las 16 h\, se celebrará la se
 sión informativa virtual sobre el Máster en Dirección de Empresas. La s
 esión se impartirá en castellano.
DTSTAMP:20260424T190731Z
END:VEVENT
END:VCALENDAR