BEGIN:VCALENDAR
VERSION:2.0
PRODID:Facultat d'Economia i Empresa
BEGIN:VEVENT
UID:69ebbf7493d3c
DTSTART:20260429T150000Z
SEQUENCE:0
TRANSP:OPAQUE
DTEND:20260428T220000Z
URL:http://www.fee.urv.cat/en/diary/12122/sessio-informativa-virtual-sobre-
 el-master-en-mercats-internacionals
SUMMARY:Virtual informative session about the Master's Degree in Internatio
 nal Markets
CLASS:PUBLIC
DESCRIPTION:Next Wednesday\, April 29th at 5:00 PM\, a virtual informative&
 nbsp\;session about the Master&rsquo\;s Degree in International Markets wi
 ll be held. The session will be conducted in English.
DTSTAMP:20260424T190732Z
END:VEVENT
END:VCALENDAR