BEGIN:VCALENDAR
VERSION:2.0
PRODID:Facultat d'Economia i Empresa
BEGIN:VEVENT
UID:69ebbf74122fc
DTSTART:20260428T140000Z
SEQUENCE:0
TRANSP:OPAQUE
DTEND:20260427T220000Z
URL:http://www.fee.urv.cat/en/diary/12120/sessio-informativa-virtual-sobre-
 el-master-en-direccio-d-empreses
SUMMARY:Virtual informative session about the Master's Degree in Business M
 anagement
CLASS:PUBLIC
DESCRIPTION:Next Tuesday\, April 28th at 4:00 PM\, a virtual informative&nb
 sp\;session about the Master&rsquo\;s Degree in Business Management will b
 e held. The session will be conducted in Spanish.
DTSTAMP:20260424T190732Z
END:VEVENT
END:VCALENDAR