BEGIN:VCALENDAR
VERSION:2.0
PRODID:Facultat d'Economia i Empresa
BEGIN:VEVENT
UID:69eba850b7ce6
DTSTART:20260429T150000Z
SEQUENCE:0
TRANSP:OPAQUE
DTEND:20260428T220000Z
URL:http://www.fee.urv.cat/ca/agenda/12122/sessio-informativa-virtual-sobre
 -el-master-en-mercats-internacionals
SUMMARY:Sessió informativa virtual sobre el Màster en Mercats Internacion
 als
CLASS:PUBLIC
DESCRIPTION:El proper dimecres\, 26&nbsp\;d&rsquo\;abril a les 17&nbsp\;h\,
 &nbsp\;tindrà lloc la sessió informativa virtual sobre el Màster en Mer
 cats Internacionals. La sessió s&rsquo\;impartirà en anglès.
DTSTAMP:20260424T172848Z
END:VEVENT
END:VCALENDAR