BEGIN:VCALENDAR
VERSION:2.0
PRODID:Facultat d'Economia i Empresa
BEGIN:VEVENT
UID:69eba85042243
DTSTART:20260428T140000Z
SEQUENCE:0
TRANSP:OPAQUE
DTEND:20260427T220000Z
URL:http://www.fee.urv.cat/ca/agenda/12120/sessio-informativa-virtual-sobre
 -el-master-en-direccio-d-empreses
SUMMARY:Sessió informativa virtual sobre el Màster en Direcció d'Emprese
 s
CLASS:PUBLIC
DESCRIPTION:El proper dimarts\, 28 d&rsquo\;abril a les 16 h\,&nbsp\;tindr
 à lloc la sessió informativa virtual sobre el Màster en Direcció d&#39
 \;Empreses. La sessió s&rsquo\;impartirà en castellà.
DTSTAMP:20260424T172848Z
END:VEVENT
END:VCALENDAR